BEGIN:VCALENDAR
VERSION:2.0
PRODID:-//wp-events-plugin.com//7.2.3.1//EN
TZID:Pacific/Auckland
X-WR-TIMEZONE:Pacific/Auckland
BEGIN:VEVENT
UID:296@taurangacrossing.co.nz
DTSTART;TZID=Pacific/Auckland:20190930T170000
DTEND;TZID=Pacific/Auckland:20190930T210000
DTSTAMP:20190815T005239Z
URL:https://www.taurangacrossing.co.nz/events/mums-night-off-2019-09-30/
SUMMARY:Mums Night Off
DESCRIPTION:Let's be honest\, cooking on a Monday night is a bit of a chore
 ! Leave it up to Something &amp\; Social instead and get 25% off the entir
 e bill from 5pm every Monday.
ATTACH;FMTTYPE=image/jpeg:https://www.taurangacrossing.co.nz/wp-content/up
 loads/2019/08/tile-mums-night.png
CATEGORIES:Retail Events
END:VEVENT
BEGIN:VTIMEZONE
TZID:Pacific/Auckland
X-LIC-LOCATION:Pacific/Auckland
BEGIN:DAYLIGHT
DTSTART:20190929T030000
TZOFFSETFROM:+1200
TZOFFSETTO:+1300
TZNAME:NZDT
END:DAYLIGHT
END:VTIMEZONE
END:VCALENDAR