BEGIN:VCALENDAR
VERSION:2.0
PRODID:-//wp-events-plugin.com//7.2.3.1//EN
TZID:Pacific/Auckland
X-WR-TIMEZONE:Pacific/Auckland
BEGIN:VEVENT
UID:931@taurangacrossing.co.nz
DTSTART;TZID=Pacific/Auckland;VALUE=DATE:20260424
DTEND;TZID=Pacific/Auckland;VALUE=DATE:20260428
DTSTAMP:20260423T215152Z
URL:https://www.taurangacrossing.co.nz/events/our-carnival-is-back/
SUMMARY:Our Carnival Is Back!
DESCRIPTION:Our Mahons pop up carnival is coming back to Tauranga Crossing!
 \n\nExperience fun entertainment and loads of exciting rides\, games\, and
  carnival snacks. With a huge range on offer\, there's something for every
 one and fun for the whole family.\n\n&nbsp\;\nEntry\nThe carnival is FREE 
 ENTRY with rides being paid for using a coupon system.\n\nThe Carnival rid
 es use a Coupon System. This simply means that coupons are accepted on all
  rides (excluding Turbo Boost)\; you pick your favorite ride and buy the n
 ecessary number of coupons required. Alternatively you can buy discounted 
 packs of coupons to use. This can be done for your own use or to share amo
 ng family or friends.\n\nIndividual Coupons $1.40 each\n\n&nbsp\;\nOpening
  Hours\nFriday 24/4 – 6pm till late\nSaturday 25/4 – 1pm till approxim
 ately 4.30pm then 6pm till late\nSunday 26/4-  1pm till approximately 4.3
 0pm then 6pm till late\nMonday 27/4 – 1pm till approximately 4.30pm\n\n(
 Opening hours are weather and crowd dependent.)\n\n&nbsp\;\nSpecial Offers
 \n\n 	Happy Hour! Saturday &amp\; Sunday from 11am - 12pm. Pay for your fi
 rst ride &amp\; stay for the next ride absolutely free.\n\nLocation\nAcros
 s the road from the shopping centre\, beside the BP Petrol Station.\nParki
 ng\nPlease park in the Tauranga Crossing car park. From there\, use the pe
 destrian crossing at the traffic lights to safely make your way to the car
 nival. Follow the signage and enter on foot via the gate on Taurikura Driv
 e.\n\n&nbsp\;\n\n
ATTACH;FMTTYPE=image/jpeg:https://www.taurangacrossing.co.nz/wp-content/up
 loads/2025/03/Mahons-Event-Banner-1850x500-1.jpg
CATEGORIES:Centre Events
END:VEVENT
BEGIN:VTIMEZONE
TZID:Pacific/Auckland
X-LIC-LOCATION:Pacific/Auckland
BEGIN:STANDARD
DTSTART:20260405T020000
TZOFFSETFROM:+1300
TZOFFSETTO:+1200
TZNAME:NZST
END:STANDARD
END:VTIMEZONE
END:VCALENDAR