BEGIN:VCALENDAR
VERSION:2.0
PRODID:-//wp-events-plugin.com//7.2.3.1//EN
TZID:Pacific/Auckland
X-WR-TIMEZONE:Pacific/Auckland
BEGIN:VEVENT
UID:337@taurangacrossing.co.nz
DTSTART;TZID=Pacific/Auckland:20251211T070000
DTEND;TZID=Pacific/Auckland:20251216T083000
DTSTAMP:20251119T215704Z
URL:https://www.taurangacrossing.co.nz/events/sensitive-santa/
SUMMARY:Sensitive Santa
DESCRIPTION:Meet Santa in a calm and comfortable environment. Book a Sensit
 ive Santa session to visit Santa outside of our normal shopping hours\, wh
 en the centre is quieter\, and the lights are lower.
ATTACH;FMTTYPE=image/jpeg:https://www.taurangacrossing.co.nz/wp-content/up
 loads/2020/11/shutterstock_1201088539-min-scaled.jpg
CATEGORIES:Centre Events
END:VEVENT
BEGIN:VTIMEZONE
TZID:Pacific/Auckland
X-LIC-LOCATION:Pacific/Auckland
BEGIN:DAYLIGHT
DTSTART:20250928T030000
TZOFFSETFROM:+1200
TZOFFSETTO:+1300
TZNAME:NZDT
END:DAYLIGHT
END:VTIMEZONE
END:VCALENDAR