BEGIN:VCALENDAR
VERSION:2.0
PRODID:-//wp-events-plugin.com//7.2.3.1//EN
TZID:Pacific/Auckland
X-WR-TIMEZONE:Pacific/Auckland
BEGIN:VEVENT
UID:696@taurangacrossing.co.nz
DTSTART;TZID=Pacific/Auckland;VALUE=DATE:20210919
DTEND;TZID=Pacific/Auckland;VALUE=DATE:20210920
DTSTAMP:20210715T232217Z
URL:https://www.taurangacrossing.co.nz/events/shoe-science-tauranga-marath
 on/
SUMMARY:Shoe Science Tauranga Marathon
DESCRIPTION:\n\n\n\n\n\n\n\n\n\nEAT PASTA\, RUN FASTA!\n\n\n\n\n\n\n\n\n\n\
 n\n\n\n\n\n\n\n\n\n\n\n\n\n\n\n\n\n\n\n\n\nThe friendly team at Shoe Scien
 ce Tauranga Crossing are thrilled to be the title sponsor for the 2021 Sho
 e Science Tauranga Marathon\, taking to the streets of the beautiful bay c
 ity on Sunday\, September 19th. The event is one of the most prestigious i
 n the Bay of Plenty and over 2\,500 participants are expected for a day th
 at has something for everyone.\n\nFor the hard core runner the 21k half ma
 rathon\, 42k marathon and unique new 50k ultra marathon all start next to 
 the waves at Papamoa. The views just keep getting better and better as the
 y round the mount\, cross the harbour bridge and run through the city. For
  the rest of us mere mortals\, there are 5k and 10k options based in the c
 ity and there’s even a dash for the kids later in the day. Every finishe
 r is guaranteed two things\; a rollicking welcome as they run down The Str
 and to finish and a superb commemorative medal to mark their achievement.\
 n\nFor more information on the Shoe Science Tauranga Marathon\, CLICK HERE
 !\n\n\nBUT WAIT\, THERE'S MORE!\n\n\n\n\n\n\n\n\n\n\n\nShoe Science are go
 ing all in with putting a $50 Shoe Science gift card on the back of each c
 ontestants race number AND offering a 20% discount on running accessories 
 and nutrition. The best part is\, you can redeem your gift card and discou
 nt prior to the event! Simply show the staff member your confirmation emai
 l when you pop in store.\n\n\nTHIS COULD BE YOU!\n[embed]https://www.youtu
 be.com/watch?v=fIRDK-hzU7c[/embed]\n\n\n\n\n\n\n\n\n\n
ATTACH;FMTTYPE=image/jpeg:https://www.taurangacrossing.co.nz/wp-content/up
 loads/2021/07/SHOE-SCIENCE-Website-Page-Banner-2.jpg
CATEGORIES:Retail Events
END:VEVENT
BEGIN:VTIMEZONE
TZID:Pacific/Auckland
X-LIC-LOCATION:Pacific/Auckland
BEGIN:STANDARD
DTSTART:20210404T020000
TZOFFSETFROM:+1300
TZOFFSETTO:+1200
TZNAME:NZST
END:STANDARD
END:VTIMEZONE
END:VCALENDAR