BEGIN:VCALENDAR
VERSION:2.0
PRODID:-//wp-events-plugin.com//7.2.3.1//EN
TZID:Pacific/Auckland
X-WR-TIMEZONE:Pacific/Auckland
BEGIN:VEVENT
UID:342@taurangacrossing.co.nz
DTSTART;TZID=Pacific/Auckland;VALUE=DATE:20251130
DTEND;TZID=Pacific/Auckland;VALUE=DATE:20251225
DTSTAMP:20251120T224701Z
URL:https://www.taurangacrossing.co.nz/events/visit-santa/
SUMMARY:Visit Santa
DESCRIPTION:Santa is on his way!\nSoon you can visit him in his Toy Worksho
 p located on the ground level between H&amp\;M and North Beach.\n\nSanta a
 lso has an extra special Christmas gift that he will give to you when you 
 visit him in his Toy Workshop. This year's bespoke Christmas decoration wa
 s created by local artist Bobbi Summers.\nSanta's Hours of Residence\nSund
 ay 30 November - Wednesday 24 December: 10am - 4pm daily and until 7pm on 
 Thursday late night.\n\nThursday 18 - Tuesday 23 December: 10am - 7pm dail
 y\n\nChristmas Eve: 10am - 6pm\nSensitive Santa\nWe know that shopping cen
 tres can present a number of challenges for some people. Book a Sensitive 
 Santa session to visit Santa in a more relaxed setting\, outside of our no
 rmal shopping hours\, when the centre is quieter.\n\nClick here to book.\n
 Santa Paws\nWe know that for some families\, a family photo with Santa wou
 ldn’t be complete without their furry family members! We have asked Sant
 a to stay a little later in the evenings so that you can bring your pets i
 n.\n\n Click here to book.\nPhotos\nProfessional photos and photo gifts ar
 e available for purchase\, pricing starts from $19 per photo. You are welc
 ome to take a photo on your phone but please make sure that the photograph
 er has right-of-way.
ATTACH;FMTTYPE=image/jpeg:https://www.taurangacrossing.co.nz/wp-content/up
 loads/2021/11/shutterstock_680540515-scaled.jpg
CATEGORIES:Centre Events
END:VEVENT
BEGIN:VTIMEZONE
TZID:Pacific/Auckland
X-LIC-LOCATION:Pacific/Auckland
BEGIN:DAYLIGHT
DTSTART:20250928T030000
TZOFFSETFROM:+1200
TZOFFSETTO:+1300
TZNAME:NZDT
END:DAYLIGHT
END:VTIMEZONE
END:VCALENDAR